BEGIN:VCALENDAR
VERSION:2.0
PRODID:-//UKLTA - ECPv6.3.7//NONSGML v1.0//EN
CALSCALE:GREGORIAN
METHOD:PUBLISH
X-WR-CALNAME:UKLTA
X-ORIGINAL-URL:https://uklta.org.uk
X-WR-CALDESC:Events for UKLTA
REFRESH-INTERVAL;VALUE=DURATION:PT1H
X-Robots-Tag:noindex
X-PUBLISHED-TTL:PT1H
BEGIN:VTIMEZONE
TZID:UTC
BEGIN:STANDARD
TZOFFSETFROM:+0000
TZOFFSETTO:+0000
TZNAME:UTC
DTSTART:20220101T000000
END:STANDARD
END:VTIMEZONE
BEGIN:VEVENT
DTSTART;TZID=UTC:20220504T130000
DTEND;TZID=UTC:20220504T150000
DTSTAMP:20260422T150908
CREATED:20211217T122621Z
LAST-MODIFIED:20220428T122635Z
UID:3231-1651669200-1651676400@uklta.org.uk
SUMMARY:UKLTA Tech Demo Event
DESCRIPTION:Join the UK Legal Technology Association (UKLTA) Demo Subcommittee\,  as they host another of their regular tech events with live product demonstrations from UKLTA members. The theme for this event is Cyber security. \nPresenting at the event: \nLawyer Checker \nPrivasee \nBaskerville Drummond LLP \nMitigo LLP \nWednesday 4th May 2022| 1.00-3.00 pm
URL:https://uklta.org.uk/event/uklta-tech-demo-event-3/
LOCATION:Online Event
CATEGORIES:Demo Days,Subcommittee,UKLTA Events,Webinars
ATTACH;FMTTYPE=image/png:https://uklta.org.uk/wp-content/uploads/2021/12/Demo-event-banner-4th-May.png
END:VEVENT
BEGIN:VEVENT
DTSTART;TZID=UTC:20220510T110000
DTEND;TZID=UTC:20220510T113000
DTSTAMP:20260422T150908
CREATED:20220316T100926Z
LAST-MODIFIED:20220316T100926Z
UID:3381-1652180400-1652182200@uklta.org.uk
SUMMARY:Innovation sounding board
DESCRIPTION:Are you tasked with leading or championing innovation in a law firm? Facing some hurdles or got some great ideas to share? \nJoin us for a coffee and a chat to swap tips and tricks with others in a similar role. \nFind Out More
URL:https://uklta.org.uk/event/innovation-sounding-board-2/
LOCATION:Online Event
CATEGORIES:Innovation Sounding Board,UKLTA Events,UKLTA members
END:VEVENT
BEGIN:VEVENT
DTSTART;TZID=UTC:20220513T120000
DTEND;TZID=UTC:20220513T130000
DTSTAMP:20260422T150908
CREATED:20211217T123105Z
LAST-MODIFIED:20220510T080419Z
UID:3233-1652443200-1652446800@uklta.org.uk
SUMMARY:UKLTA- Mental Health Awareness Week
DESCRIPTION:According to an article published by the Law Society Gazette\, before the pandemic\, lawyers had one of the most stressful jobs.  \nWith many changes over the past few years\, including many people working from home\, and becoming heavily reliant on technology to complete their work and communicate with clients\, combining home and work life\, or even returning to the office after an extended break\, how do we feel the state of mental health for workers within the legal sector has changed\, and are lawyers and legal professionals experiencing more or less stress? \nHosted by Mary Ibrahim\, Content Specialist\, and Diversity and Inclusion Committee Member\, vLex (Chair). Since graduating in Law from the University of Greenwich\, Mary has become a Product Technology & Content Specialist at vLex\, an award-winning provider of legal technology\, member of the vLex Diversity and Inclusion Committee and creator of the legal research competition DICTUM.  \nMary will be joined by Louise Hewitt\, Director\, Innocence Project. Louise has been an academic lawyer for over ten years and Director of the Innocence Project London since 2017 having co-founded it in 2010. Louise is also the Director of Undergraduate Research for the Faculty of Liberal Arts and Sciences\, at the University of Greenwich.  \nAlso joining the discussion is Elizabeth Rimmer\, Chief Executive\, LawCare. Elizabeth started her working life as a solicitor specialising in clinical negligence. She has been managing and developing charities in the mental health sector for over 15 years\, and joined LawCare as Chief Executive in 2014. \n 
URL:https://uklta.org.uk/event/managing-the-wellbeing-of-your-team/
LOCATION:Online Event
CATEGORIES:Mental Health Awareness,UKLTA Events,Webinars
ATTACH;FMTTYPE=image/png:https://uklta.org.uk/wp-content/uploads/2021/12/UKLTA-Mental-Health-Awareness-Week.png
END:VEVENT
BEGIN:VEVENT
DTSTART;TZID=UTC:20220524T130000
DTEND;TZID=UTC:20220524T140000
DTSTAMP:20260422T150908
CREATED:20220316T103238Z
LAST-MODIFIED:20220316T105016Z
UID:3390-1653397200-1653400800@uklta.org.uk
SUMMARY:Members Board Meeting
DESCRIPTION:Quarterly Meeting for UKLTA Board Members. \n 
URL:https://uklta.org.uk/event/members-board-meeting/
LOCATION:Online Event
CATEGORIES:Members Board Meeting,UKLTA Events
END:VEVENT
BEGIN:VEVENT
DTSTART;TZID=UTC:20220525T120000
DTEND;TZID=UTC:20220525T130000
DTSTAMP:20260422T150908
CREATED:20211217T123608Z
LAST-MODIFIED:20220517T093927Z
UID:3235-1653480000-1653483600@uklta.org.uk
SUMMARY:Adoption of legal tech: Why it doesn’t happen on its own
DESCRIPTION:Lots of discussion about legal technology is driven by buzzwords. Things you could do\, the promise of artificial intelligence and complex data science.  \nLegal tech start-ups are widespread now\, producing apps that look like they were designed by Apple. \nAgainst this background\, it is easy to forget that less sexy topic of “getting stuff used”. Legal tech can help make things better for law firms\, legal teams and everybody who interacts with them. But it has absolutely no hope of doing this if we are talking about technology in the absence of why anybody should ever care about using it. \nIn this session\, Jack Shepherd\, Legal Practice Lead at  iManage will discuss why legal tech adoption doesn’t happen on its own\, and how to deliver it.
URL:https://uklta.org.uk/event/adoption-of-legal-tech-why-it-doesnt-happen-on-its-own/
LOCATION:Online Event
CATEGORIES:Guest Speaker,UKLTA Events,Webinars
ATTACH;FMTTYPE=image/png:https://uklta.org.uk/wp-content/uploads/2021/12/Wed-25th-May-Jack-Shepherd.png
END:VEVENT
END:VCALENDAR