BEGIN:VCALENDAR
VERSION:2.0
PRODID:-//UKLTA - ECPv6.3.7//NONSGML v1.0//EN
CALSCALE:GREGORIAN
METHOD:PUBLISH
X-ORIGINAL-URL:https://uklta.org.uk
X-WR-CALDESC:Events for UKLTA
REFRESH-INTERVAL;VALUE=DURATION:PT1H
X-Robots-Tag:noindex
X-PUBLISHED-TTL:PT1H
BEGIN:VTIMEZONE
TZID:UTC
BEGIN:STANDARD
TZOFFSETFROM:+0000
TZOFFSETTO:+0000
TZNAME:UTC
DTSTART:20220101T000000
END:STANDARD
END:VTIMEZONE
BEGIN:VEVENT
DTSTART;TZID=UTC:20220615T120000
DTEND;TZID=UTC:20220615T130000
DTSTAMP:20260422T133953
CREATED:20211217T122236Z
LAST-MODIFIED:20220531T101805Z
UID:3229-1655294400-1655298000@uklta.org.uk
SUMMARY:How can SME law firms leverage the right data and technology strategy to provide better services to employees and customers.
DESCRIPTION:As part of our UKLTA101 series\, Andy Clarke\, Chief Technology Officer at Rradar discusses how law firms can investigate\, choose and start adopting legal technology for use within their practice.
URL:https://uklta.org.uk/event/how-can-sme-law-firms-get-on-board-with-legal-technology/
LOCATION:Online Event
CATEGORIES:UKLTA Events,UKLTA101's,Webinars
ATTACH;FMTTYPE=image/png:https://uklta.org.uk/wp-content/uploads/2021/12/Rradar-June-15th-2022.png
END:VEVENT
END:VCALENDAR