BEGIN:VCALENDAR
VERSION:2.0
PRODID:-//UKLTA - ECPv6.3.7//NONSGML v1.0//EN
CALSCALE:GREGORIAN
METHOD:PUBLISH
X-ORIGINAL-URL:https://uklta.org.uk
X-WR-CALDESC:Events for UKLTA
REFRESH-INTERVAL;VALUE=DURATION:PT1H
X-Robots-Tag:noindex
X-PUBLISHED-TTL:PT1H
BEGIN:VTIMEZONE
TZID:UTC
BEGIN:STANDARD
TZOFFSETFROM:+0000
TZOFFSETTO:+0000
TZNAME:UTC
DTSTART:20220101T000000
END:STANDARD
END:VTIMEZONE
BEGIN:VEVENT
DTSTART;TZID=UTC:20220906T130000
DTEND;TZID=UTC:20220906T140000
DTSTAMP:20260422T091140
CREATED:20220316T104517Z
LAST-MODIFIED:20220712T111103Z
UID:3394-1662469200-1662472800@uklta.org.uk
SUMMARY:Open Exec Board Nominations
DESCRIPTION:Open Executive Board Nominations (May 2023 – April 2026) \n 
URL:https://uklta.org.uk/event/members-board-open-exec-board-nominations/
LOCATION:Online Event
CATEGORIES:Executive Board Meeting,UKLTA Events,UKLTA members
END:VEVENT
END:VCALENDAR