BEGIN:VCALENDAR
VERSION:2.0
PRODID:-//UKLTA - ECPv6.3.7//NONSGML v1.0//EN
CALSCALE:GREGORIAN
METHOD:PUBLISH
X-WR-CALNAME:UKLTA
X-ORIGINAL-URL:https://uklta.org.uk
X-WR-CALDESC:Events for UKLTA
REFRESH-INTERVAL;VALUE=DURATION:PT1H
X-Robots-Tag:noindex
X-PUBLISHED-TTL:PT1H
BEGIN:VTIMEZONE
TZID:UTC
BEGIN:STANDARD
TZOFFSETFROM:+0000
TZOFFSETTO:+0000
TZNAME:UTC
DTSTART:20220101T000000
END:STANDARD
END:VTIMEZONE
BEGIN:VEVENT
DTSTART;TZID=UTC:20221207T120000
DTEND;TZID=UTC:20221207T130000
DTSTAMP:20260422T044015
CREATED:20221024T112855Z
LAST-MODIFIED:20221115T131914Z
UID:3956-1670414400-1670418000@uklta.org.uk
SUMMARY:R&D tax credits in the LegalTech sector | Ayming
DESCRIPTION:Join Ayming UK as they discuss R&D tax relief for the LegalTech sector in this free webinar. Your hosts\, Tom Roberts and Tom Bowker will discuss all things innovation in LegalTech\, keep you up to speed with the current state of affairs\, and provide insight on the upcoming regulatory changes to the R&D tax relief scheme. If you want to expand your understanding of R&D tax in LegalTech\, or are unsure if R&D tax applies to you\, then don’t miss out on this webinar!
URL:https://uklta.org.uk/event/rd-tax-ayming/
LOCATION:Online Event
CATEGORIES:R&D Tax Credits,UKLTA Events
ATTACH;FMTTYPE=image/jpeg:https://uklta.org.uk/wp-content/uploads/2022/10/Webinar-RD-tax-credits-in-the-LegalTech-sector-1.jpg
END:VEVENT
BEGIN:VEVENT
DTSTART;TZID=UTC:20221213T100000
DTEND;TZID=UTC:20221213T103000
DTSTAMP:20260422T044015
CREATED:20230307T100037Z
LAST-MODIFIED:20230224T113812Z
UID:3387-1670925600-1670927400@uklta.org.uk
SUMMARY:Innovation sounding board
DESCRIPTION:Are you tasked with leading or championing innovation in a law firm? Facing some hurdles or got some great ideas to share? \nJoin us for a coffee and a chat to swap tips and tricks with others in a similar role. \nFind Out More
URL:https://uklta.org.uk/event/innovation-sounding-board-5/
LOCATION:Online Event
CATEGORIES:Innovation Sounding Board,UKLTA Events,UKLTA members
END:VEVENT
END:VCALENDAR