BEGIN:VCALENDAR
VERSION:2.0
PRODID:-//UKLTA - ECPv6.3.7//NONSGML v1.0//EN
CALSCALE:GREGORIAN
METHOD:PUBLISH
X-WR-CALNAME:UKLTA
X-ORIGINAL-URL:https://uklta.org.uk
X-WR-CALDESC:Events for UKLTA
REFRESH-INTERVAL;VALUE=DURATION:PT1H
X-Robots-Tag:noindex
X-PUBLISHED-TTL:PT1H
BEGIN:VTIMEZONE
TZID:UTC
BEGIN:STANDARD
TZOFFSETFROM:+0000
TZOFFSETTO:+0000
TZNAME:UTC
DTSTART:20200101T000000
END:STANDARD
END:VTIMEZONE
BEGIN:VEVENT
DTSTART;TZID=UTC:20201201T190000
DTEND;TZID=UTC:20201201T200000
DTSTAMP:20260425T133408
CREATED:20201031T100940Z
LAST-MODIFIED:20201111T090430Z
UID:2682-1606849200-1606852800@uklta.org.uk
SUMMARY:Global Legal Tech Report (Northern Hemisphere Launch)
DESCRIPTION:Earlier in the year the UKLTA joined a global research project to assess the state of the legaltech industry worldwide. \nAn initiative of the Australian Legal Technology Association (ALTA) and Alpha Creates the unprecedented research project set out to definitively assess the state of the global legaltech industry through the lens of the business of starting and running a legaltech start-up. Backed by every major legaltech association in the world\, it was the first study into legaltech that asks the companies behind the booming sector. The other legaltech associations participating include: International Legal Technology Association (ILTA)\, European Legal Tech Association (ELTA)\, ASEAN Legal Tech (ALT) and Legal Tech NZ (LTNZ). \nWe are delighted to invite you to this free webinar to hear the major findings from the global research. \nBook Your Place
URL:https://uklta.org.uk/event/global-legal-tech-report-northern-hemisphere-launch/
LOCATION:Online Event
CATEGORIES:UKLTA Events
ATTACH;FMTTYPE=image/png:https://uklta.org.uk/wp-content/uploads/2020/10/gltr-world.png
END:VEVENT
END:VCALENDAR