BEGIN:VCALENDAR
VERSION:2.0
PRODID:-//UKLTA - ECPv6.3.7//NONSGML v1.0//EN
CALSCALE:GREGORIAN
METHOD:PUBLISH
X-ORIGINAL-URL:https://uklta.org.uk
X-WR-CALDESC:Events for UKLTA
REFRESH-INTERVAL;VALUE=DURATION:PT1H
X-Robots-Tag:noindex
X-PUBLISHED-TTL:PT1H
BEGIN:VTIMEZONE
TZID:UTC
BEGIN:STANDARD
TZOFFSETFROM:+0000
TZOFFSETTO:+0000
TZNAME:UTC
DTSTART:20220101T000000
END:STANDARD
END:VTIMEZONE
BEGIN:VEVENT
DTSTART;TZID=UTC:20220504T130000
DTEND;TZID=UTC:20220504T150000
DTSTAMP:20260422T165601
CREATED:20211217T122621Z
LAST-MODIFIED:20220428T122635Z
UID:3231-1651669200-1651676400@uklta.org.uk
SUMMARY:UKLTA Tech Demo Event
DESCRIPTION:Join the UK Legal Technology Association (UKLTA) Demo Subcommittee\,  as they host another of their regular tech events with live product demonstrations from UKLTA members. The theme for this event is Cyber security. \nPresenting at the event: \nLawyer Checker \nPrivasee \nBaskerville Drummond LLP \nMitigo LLP \nWednesday 4th May 2022| 1.00-3.00 pm
URL:https://uklta.org.uk/event/uklta-tech-demo-event-3/
LOCATION:Online Event
CATEGORIES:Demo Days,Subcommittee,UKLTA Events,Webinars
ATTACH;FMTTYPE=image/png:https://uklta.org.uk/wp-content/uploads/2021/12/Demo-event-banner-4th-May.png
END:VEVENT
END:VCALENDAR