BEGIN:VCALENDAR
VERSION:2.0
PRODID:-//UKLTA - ECPv6.3.7//NONSGML v1.0//EN
CALSCALE:GREGORIAN
METHOD:PUBLISH
X-ORIGINAL-URL:https://uklta.org.uk
X-WR-CALDESC:Events for UKLTA
REFRESH-INTERVAL;VALUE=DURATION:PT1H
X-Robots-Tag:noindex
X-PUBLISHED-TTL:PT1H
BEGIN:VTIMEZONE
TZID:UTC
BEGIN:STANDARD
TZOFFSETFROM:+0000
TZOFFSETTO:+0000
TZNAME:UTC
DTSTART:20220101T000000
END:STANDARD
END:VTIMEZONE
BEGIN:VEVENT
DTSTART;TZID=UTC:20221116T120000
DTEND;TZID=UTC:20221116T130000
DTSTAMP:20260422T073510
CREATED:20221017T162929Z
LAST-MODIFIED:20221110T094945Z
UID:3941-1668600000-1668603600@uklta.org.uk
SUMMARY:LegaMart : Raising Womens' voices in legal tech
DESCRIPTION:Join Sanaz Javadi Farahzadi\, Legal Network Manager at Legamart to discuss ‘Raising Womens voices in Legal Tech’. \nSupport networks for women are critical in allowing women to identify with other women and navigate their way through issues. More women in legal tech means more quality mentors available to help guide and develop up and coming entrepreneurs\, while adding to the richness of the sector. \nIf more women are to be successful in the legal tech industry\, changes need to be implemented that make it more equitable for women to start-up in the sector and grow their business beyond a micro-business. More women visible in the sector means greater diversity in the industry and more support available. \nLegaMart and its Women’s Initiative is proud to announce Women in Tech\, to highlight a community of women in science\, technology\, engineering\, and mathematics (STEM) fields. Our main goal is to create a platform for women in STEM and legal professionals\, technology providers and consumers of legal services and share their experiences\, knowledge\, and background on Intellectual Property\, tech law\, data protection and etc. 
URL:https://uklta.org.uk/event/legamart-raising-womens-voices-in-legal-tech/
LOCATION:Online Event
CATEGORIES:UKLTA Events
ATTACH;FMTTYPE=image/png:https://uklta.org.uk/wp-content/uploads/2022/10/LegaMart-UKLTA-event.png
END:VEVENT
END:VCALENDAR