BEGIN:VCALENDAR
VERSION:2.0
PRODID:-//UKLTA - ECPv6.3.7//NONSGML v1.0//EN
CALSCALE:GREGORIAN
METHOD:PUBLISH
X-WR-CALNAME:UKLTA
X-ORIGINAL-URL:https://uklta.org.uk
X-WR-CALDESC:Events for UKLTA
REFRESH-INTERVAL;VALUE=DURATION:PT1H
X-Robots-Tag:noindex
X-PUBLISHED-TTL:PT1H
BEGIN:VTIMEZONE
TZID:UTC
BEGIN:STANDARD
TZOFFSETFROM:+0000
TZOFFSETTO:+0000
TZNAME:UTC
DTSTART:20220101T000000
END:STANDARD
END:VTIMEZONE
BEGIN:VEVENT
DTSTART;TZID=UTC:20221130T120000
DTEND;TZID=UTC:20221130T130000
DTSTAMP:20260422T060426
CREATED:20221019T112047Z
LAST-MODIFIED:20221024T115126Z
UID:3949-1669809600-1669813200@uklta.org.uk
SUMMARY:Open Finance the next step on the Open Banking journey | Armalytix
DESCRIPTION:In this session Tom Lyes\, Head of Legal at Source of Funds and Open Banking experts Armalytix will look at the future of Open Finance and the potential impact to the Legal Sector. \nOpen Finance is the next step in the evolution of Open Banking. By bringing the benefits of Open Banking to a broader array of financial products\, Open Finance will give consumers and businesses greater control and visibility of their economic lives. \nArmalytix are founder members of the recently formed Open Finance Association.
URL:https://uklta.org.uk/event/open-finance-the-next-step-on-the-open-banking-journey-armalytix/
LOCATION:Online Event
CATEGORIES:UKLTA Events
ATTACH;FMTTYPE=image/jpeg:https://uklta.org.uk/wp-content/uploads/2022/10/Armalytix-email-UKLTA-webinar-banner-700px-1.jpg
END:VEVENT
END:VCALENDAR