BEGIN:VCALENDAR
VERSION:2.0
PRODID:-//UKLTA - ECPv6.3.7//NONSGML v1.0//EN
CALSCALE:GREGORIAN
METHOD:PUBLISH
X-ORIGINAL-URL:https://uklta.org.uk
X-WR-CALDESC:Events for UKLTA
REFRESH-INTERVAL;VALUE=DURATION:PT1H
X-Robots-Tag:noindex
X-PUBLISHED-TTL:PT1H
BEGIN:VTIMEZONE
TZID:UTC
BEGIN:STANDARD
TZOFFSETFROM:+0000
TZOFFSETTO:+0000
TZNAME:UTC
DTSTART:20230101T000000
END:STANDARD
END:VTIMEZONE
BEGIN:VEVENT
DTSTART;TZID=UTC:20230307T100000
DTEND;TZID=UTC:20230307T103000
DTSTAMP:20260422T013635
CREATED:20230224T122357Z
LAST-MODIFIED:20230224T122357Z
UID:4137-1678183200-1678185000@uklta.org.uk
SUMMARY:Innovation sounding board
DESCRIPTION:Are you tasked with leading or championing innovation in a law firm? Facing some hurdles or got some great ideas to share? \nJoin us for a coffee and a chat to swap tips and tricks with others in a similar role. \nFind Out More
URL:https://uklta.org.uk/event/innovation-sounding-board-6/
LOCATION:Online Event
CATEGORIES:Innovation Sounding Board,UKLTA Events
END:VEVENT
END:VCALENDAR