BEGIN:VCALENDAR
VERSION:2.0
PRODID:-//UKLTA - ECPv6.3.7//NONSGML v1.0//EN
CALSCALE:GREGORIAN
METHOD:PUBLISH
X-ORIGINAL-URL:https://uklta.org.uk
X-WR-CALDESC:Events for UKLTA
REFRESH-INTERVAL;VALUE=DURATION:PT1H
X-Robots-Tag:noindex
X-PUBLISHED-TTL:PT1H
BEGIN:VTIMEZONE
TZID:UTC
BEGIN:STANDARD
TZOFFSETFROM:+0000
TZOFFSETTO:+0000
TZNAME:UTC
DTSTART:20230101T000000
END:STANDARD
END:VTIMEZONE
BEGIN:VEVENT
DTSTART;TZID=UTC:20230530T130000
DTEND;TZID=UTC:20230530T134500
DTSTAMP:20260421T210217
CREATED:20230503T155454Z
LAST-MODIFIED:20230524T100257Z
UID:4240-1685451600-1685454300@uklta.org.uk
SUMMARY:How Legal Technology could Shape the Future Generation – An Introduction | Student LegalTech Certificate event.
DESCRIPTION:As part of our ‘Student LegalTech Certification series’\, Guest speaker Mr Patrick Grant\, Senior Tutor and Project Director (North) for Legal Tech and Innovation at The University of Law’s Leeds Campus\, will be providing an introduction to the future of legal services highlighting key areas such as Process Mapping\, Automation and AI. \nPatrick is passionate about educating tomorrow’s lawyers and introducing students to tech\, innovation\, and entrepreneurship. Having graduated with an LLB\, he went on to study a master’s in Law and Economics at the University of Bologna and the University of Gent before completing the LPC at the Oxford Institute of Legal Practice. Now a non-practicing solicitor\, Patrick has worked at ULaw Leeds for 5 years. During that time\, he has designed three undergraduate modules on tech and innovation in Legal Services and collaborated on a number of postgrad legal tech modules too. Patrick is a member of the steering group for LegalTech in Leeds and is regularly involved in panels and talks around the topic of using tech to improve legal services and ultimately access to justice. Patrick became a trustee of Citizens Advice Leeds in Nov 2022. \n  \nUKLTA Certificate in Legal Technology \nThe UKLTA is now providing a certificate in legal technology to students who attend a number of its online events over the course of the academic year. \nThe online events cover various aspects of the legal technology landscape\, and are designed to augment the teaching and learning provided through your University course. The events will provide you with greater knowledge of the legal technology sector and help you to stand out from the competition when it comes to interviews. \nHow to get involved \nRegister for a free UKLTA membership through our website www.uklta.org.uk by going to Join → Student Application Form\, using your University email address. We will use this address when issuing the certificate. \nRegister for the events you wish to attend\, available events are listed on the UKLTA website here: \nhttps://uklta.org.uk/events/category/uklta-events/student-legaltech-certificate/ 
URL:https://uklta.org.uk/event/how-legal-technology-could-shape-the-future-generation-student-legaltech-certificate-event/
LOCATION:Online Event
CATEGORIES:Student LegalTech Certificate,Webinars
ATTACH;FMTTYPE=image/png:https://uklta.org.uk/wp-content/uploads/2023/05/How-Legal-Tech-could-shape-the-future.png
END:VEVENT
END:VCALENDAR