BEGIN:VCALENDAR
VERSION:2.0
PRODID:-//UKLTA - ECPv6.3.7//NONSGML v1.0//EN
CALSCALE:GREGORIAN
METHOD:PUBLISH
X-ORIGINAL-URL:https://uklta.org.uk
X-WR-CALDESC:Events for UKLTA
REFRESH-INTERVAL;VALUE=DURATION:PT1H
X-Robots-Tag:noindex
X-PUBLISHED-TTL:PT1H
BEGIN:VTIMEZONE
TZID:UTC
BEGIN:STANDARD
TZOFFSETFROM:+0000
TZOFFSETTO:+0000
TZNAME:UTC
DTSTART:20230101T000000
END:STANDARD
END:VTIMEZONE
BEGIN:VEVENT
DTSTART;TZID=UTC:20230613T123000
DTEND;TZID=UTC:20230613T130000
DTSTAMP:20260421T210350
CREATED:20230510T104636Z
LAST-MODIFIED:20230523T115848Z
UID:4277-1686659400-1686661200@uklta.org.uk
SUMMARY:From Pitch to Purchase: How to Win Over Law Firm Clients
DESCRIPTION:Do you want more law firms to adopt your tech solution? \nJoin us for a 30 minute event\, where our enlightening and engaging panellists will discuss successful strategies for approaching law firms. They will examine examples of what techniques to use\, as well as what pitfalls to avoid during this process. \nRegister now and gain helpful insights from our panellists’ insights on how to sell to law firms. \nChaired by the UKLTA’s new chairperson Lauren Watson\, our panellists include: \n  \nShelley Quinn – Director at Walker Morris LLP \nJames Croyston – Director at Founders Law \nBecky Baker – Associate at Reynolds Porter Chamberlain LLP \n  \n 
URL:https://uklta.org.uk/event/from-pitch-to-purchase-how-to-win-over-law-firm-clients/
LOCATION:Online Event
CATEGORIES:UKLTA Events,Webinars
ATTACH;FMTTYPE=image/png:https://uklta.org.uk/wp-content/uploads/2023/05/pitch-purchase.png
END:VEVENT
END:VCALENDAR