BEGIN:VCALENDAR
VERSION:2.0
PRODID:-//UKLTA - ECPv6.3.7//NONSGML v1.0//EN
CALSCALE:GREGORIAN
METHOD:PUBLISH
X-WR-CALNAME:UKLTA
X-ORIGINAL-URL:https://uklta.org.uk
X-WR-CALDESC:Events for UKLTA
REFRESH-INTERVAL;VALUE=DURATION:PT1H
X-Robots-Tag:noindex
X-PUBLISHED-TTL:PT1H
BEGIN:VTIMEZONE
TZID:UTC
BEGIN:STANDARD
TZOFFSETFROM:+0000
TZOFFSETTO:+0000
TZNAME:UTC
DTSTART:20210101T000000
END:STANDARD
END:VTIMEZONE
BEGIN:VEVENT
DTSTART;TZID=UTC:20211103T163000
DTEND;TZID=UTC:20211103T173000
DTSTAMP:20260425T233524
CREATED:20211011T085330Z
LAST-MODIFIED:20211102T111519Z
UID:3069-1635957000-1635960600@uklta.org.uk
SUMMARY:Building Legal Brands In The Tech Age
DESCRIPTION:UK Legaltech has experienced significant steps in its maturity as an industry over the past several years\, with significant advances in funding\, innovation and adoption being made.  \nAs the needs of the sector continue to evolve\, we ask how brand can be aligned to best serve startups\, scale-ups\, firms and investors involved in the space.  \nModerated by brand consultancy Rowdy Studio\, this panel discussion will provide insights into brand challenges\, opportunities and ambitions in legal tech from the perspective of founders\, lawyers and creatives.
URL:https://uklta.org.uk/event/building-legal-brands-in-the-tech-age/
LOCATION:Online Event
CATEGORIES:UKLTA Events,Webinars
END:VEVENT
BEGIN:VEVENT
DTSTART;TZID=UTC:20211111T120000
DTEND;TZID=UTC:20211111T130000
DTSTAMP:20260425T233524
CREATED:20211103T134503Z
LAST-MODIFIED:20211105T091740Z
UID:3100-1636632000-1636635600@uklta.org.uk
SUMMARY:Open Banking: Open opportunities for Legal?
DESCRIPTION:Topsy Taiwo – Business Development Manager at Thirdfort will discuss:\nThe what\, how and why of Open Banking\, and how it’s set to revolutionise the way firms handle AML. \nOpen Banking in action: real-life examples of Open Banking preventing fraud. \nOpen Banking Case Study – how one firm cut admin time in half and transformed their clients’ experience.
URL:https://uklta.org.uk/event/open-banking-open-opportunities-for-legal/
LOCATION:Online Event
CATEGORIES:UKLTA Events,Webinars
ATTACH;FMTTYPE=image/png:https://uklta.org.uk/wp-content/uploads/2019/09/thirdfort.png
END:VEVENT
END:VCALENDAR