BEGIN:VCALENDAR
VERSION:2.0
PRODID:-//UKLTA - ECPv6.3.7//NONSGML v1.0//EN
CALSCALE:GREGORIAN
METHOD:PUBLISH
X-ORIGINAL-URL:https://uklta.org.uk
X-WR-CALDESC:Events for UKLTA
REFRESH-INTERVAL;VALUE=DURATION:PT1H
X-Robots-Tag:noindex
X-PUBLISHED-TTL:PT1H
BEGIN:VTIMEZONE
TZID:UTC
BEGIN:STANDARD
TZOFFSETFROM:+0000
TZOFFSETTO:+0000
TZNAME:UTC
DTSTART:20220101T000000
END:STANDARD
END:VTIMEZONE
BEGIN:VEVENT
DTSTART;TZID=UTC:20220208T120000
DTEND;TZID=UTC:20220208T130000
DTSTAMP:20260425T193858
CREATED:20211217T115506Z
LAST-MODIFIED:20220127T112649Z
UID:3217-1644321600-1644325200@uklta.org.uk
SUMMARY:Closing Contracts Quickly - Radiant Law
DESCRIPTION:Alex Hamilton\, author of ‘Sign Here: The enterprise guide to closing contracts quickly’ and CEO and founder of Radiant Law\, discusses his radical vision for fast and pain-free contracting for your firm. \n*** Note: This event was rescheduled from Wednesday 9th February ***
URL:https://uklta.org.uk/event/closing-contracts-quickly-radiant-law/
LOCATION:Online Event
CATEGORIES:UKLTA Events,Webinars
ATTACH;FMTTYPE=image/png:https://uklta.org.uk/wp-content/uploads/2021/12/radiant-contracts-2.png
END:VEVENT
END:VCALENDAR